BEGIN:VCALENDAR
VERSION:2.0
PRODID:-//Waldeckischer Sängerbund - ECPv6.15.20//NONSGML v1.0//EN
CALSCALE:GREGORIAN
METHOD:PUBLISH
X-ORIGINAL-URL:https://waldeckischer-saengerbund.de
X-WR-CALDESC:Veranstaltungen für Waldeckischer Sängerbund
REFRESH-INTERVAL;VALUE=DURATION:PT1H
X-Robots-Tag:noindex
X-PUBLISHED-TTL:PT1H
BEGIN:VTIMEZONE
TZID:Europe/Berlin
BEGIN:DAYLIGHT
TZOFFSETFROM:+0100
TZOFFSETTO:+0200
TZNAME:CEST
DTSTART:20230326T010000
END:DAYLIGHT
BEGIN:STANDARD
TZOFFSETFROM:+0200
TZOFFSETTO:+0100
TZNAME:CET
DTSTART:20231029T010000
END:STANDARD
BEGIN:DAYLIGHT
TZOFFSETFROM:+0100
TZOFFSETTO:+0200
TZNAME:CEST
DTSTART:20240331T010000
END:DAYLIGHT
BEGIN:STANDARD
TZOFFSETFROM:+0200
TZOFFSETTO:+0100
TZNAME:CET
DTSTART:20241027T010000
END:STANDARD
BEGIN:DAYLIGHT
TZOFFSETFROM:+0100
TZOFFSETTO:+0200
TZNAME:CEST
DTSTART:20250330T010000
END:DAYLIGHT
BEGIN:STANDARD
TZOFFSETFROM:+0200
TZOFFSETTO:+0100
TZNAME:CET
DTSTART:20251026T010000
END:STANDARD
END:VTIMEZONE
BEGIN:VEVENT
DTSTART;TZID=Europe/Berlin:20240914T190000
DTEND;TZID=Europe/Berlin:20240914T220000
DTSTAMP:20260425T173132
CREATED:20240521T163600Z
LAST-MODIFIED:20240727T080515Z
UID:560-1726340400-1726351200@waldeckischer-saengerbund.de
SUMMARY:Jubiläumskonzert 100 Jahre Waldeckischer Sängerbund
DESCRIPTION:
URL:https://waldeckischer-saengerbund.de/event/jubilaeumskonzert-100-jahre-waldeckischer-saengerbund/
LOCATION:Nikolaikirche Korbach
ATTACH;FMTTYPE=image/jpeg:https://waldeckischer-saengerbund.de/wp-content/uploads/2024/05/100-Jahre-WSB-Plakat_K2-900X1200.jpg
END:VEVENT
END:VCALENDAR