BEGIN:VCALENDAR
VERSION:2.0
PRODID:-//Waldeckischer Sängerbund - ECPv6.15.20//NONSGML v1.0//EN
CALSCALE:GREGORIAN
METHOD:PUBLISH
X-ORIGINAL-URL:https://waldeckischer-saengerbund.de
X-WR-CALDESC:Veranstaltungen für Waldeckischer Sängerbund
REFRESH-INTERVAL;VALUE=DURATION:PT1H
X-Robots-Tag:noindex
X-PUBLISHED-TTL:PT1H
BEGIN:VTIMEZONE
TZID:Europe/Berlin
BEGIN:DAYLIGHT
TZOFFSETFROM:+0100
TZOFFSETTO:+0200
TZNAME:CEST
DTSTART:20230326T010000
END:DAYLIGHT
BEGIN:STANDARD
TZOFFSETFROM:+0200
TZOFFSETTO:+0100
TZNAME:CET
DTSTART:20231029T010000
END:STANDARD
BEGIN:DAYLIGHT
TZOFFSETFROM:+0100
TZOFFSETTO:+0200
TZNAME:CEST
DTSTART:20240331T010000
END:DAYLIGHT
BEGIN:STANDARD
TZOFFSETFROM:+0200
TZOFFSETTO:+0100
TZNAME:CET
DTSTART:20241027T010000
END:STANDARD
BEGIN:DAYLIGHT
TZOFFSETFROM:+0100
TZOFFSETTO:+0200
TZNAME:CEST
DTSTART:20250330T010000
END:DAYLIGHT
BEGIN:STANDARD
TZOFFSETFROM:+0200
TZOFFSETTO:+0100
TZNAME:CET
DTSTART:20251026T010000
END:STANDARD
END:VTIMEZONE
BEGIN:VEVENT
DTSTART;TZID=Europe/Berlin:20240602T123000
DTEND;TZID=Europe/Berlin:20240602T170000
DTSTAMP:20260425T200956
CREATED:20240602T083832Z
LAST-MODIFIED:20240602T083832Z
UID:788-1717331400-1717347600@waldeckischer-saengerbund.de
SUMMARY:"Die Walddörfer singen"
DESCRIPTION:
URL:https://waldeckischer-saengerbund.de/event/die-walddoerfer-singen/
END:VEVENT
BEGIN:VEVENT
DTSTART;TZID=Europe/Berlin:20240605T000000
DTEND;TZID=Europe/Berlin:20240605T235959
DTSTAMP:20260425T200956
CREATED:20240602T081706Z
LAST-MODIFIED:20240602T083138Z
UID:780-1717545600-1717631999@waldeckischer-saengerbund.de
SUMMARY:ICE Taufe in Frankfurt
DESCRIPTION:Am 5. Juni wird um 9:30 Uhr ein ICE im Frankfurter Hauptbahnhof auf den Namen „Waldecker Land“ getauft. Die Taufpaten wünschen sich\, dass anlässlich der Taufe das “Waldecker Lied” gesungen wird und haben beim WSB angefragt\, ob eine musikalische Begleitung der Taufe möglich sei. \nDer Waldeckische Sängerbund hat zugesagt und wir fahren nach Frankfurt\, um dort das „Lied der Waldecker“ zu singen. Sänger und Sängerinnen aus dem Raum Bad Arolsen und aus Bad Wildungen haben sich angemeldet.
URL:https://waldeckischer-saengerbund.de/event/ice-taufe-in-frankfurt/
LOCATION:Franfurter Hauptbahnhof
ATTACH;FMTTYPE=image/jpeg:https://waldeckischer-saengerbund.de/wp-content/uploads/2024/06/34055035-ice-zugtaufe-spree-im-berliner-hbf-2pnTL90dAAe9.jpg
END:VEVENT
BEGIN:VEVENT
DTSTART;TZID=Europe/Berlin:20240628T200000
DTEND;TZID=Europe/Berlin:20240628T220000
DTSTAMP:20260425T200956
CREATED:20240602T083452Z
LAST-MODIFIED:20240716T095731Z
UID:580-1719604800-1719612000@waldeckischer-saengerbund.de
SUMMARY:Jubiläumskonzert Singing Boots Gembeck
DESCRIPTION:
URL:https://waldeckischer-saengerbund.de/event/jubilaeumskonzert-singing-boots-gembeck/
LOCATION:Kulurscheune Gembeck
END:VEVENT
END:VCALENDAR