BEGIN:VCALENDAR
VERSION:2.0
PRODID:-//Waldeckischer Sängerbund - ECPv6.15.20//NONSGML v1.0//EN
CALSCALE:GREGORIAN
METHOD:PUBLISH
X-WR-CALNAME:Waldeckischer Sängerbund
X-ORIGINAL-URL:https://waldeckischer-saengerbund.de
X-WR-CALDESC:Veranstaltungen für Waldeckischer Sängerbund
REFRESH-INTERVAL;VALUE=DURATION:PT1H
X-Robots-Tag:noindex
X-PUBLISHED-TTL:PT1H
BEGIN:VTIMEZONE
TZID:Europe/Berlin
BEGIN:DAYLIGHT
TZOFFSETFROM:+0100
TZOFFSETTO:+0200
TZNAME:CEST
DTSTART:20230326T010000
END:DAYLIGHT
BEGIN:STANDARD
TZOFFSETFROM:+0200
TZOFFSETTO:+0100
TZNAME:CET
DTSTART:20231029T010000
END:STANDARD
BEGIN:DAYLIGHT
TZOFFSETFROM:+0100
TZOFFSETTO:+0200
TZNAME:CEST
DTSTART:20240331T010000
END:DAYLIGHT
BEGIN:STANDARD
TZOFFSETFROM:+0200
TZOFFSETTO:+0100
TZNAME:CET
DTSTART:20241027T010000
END:STANDARD
BEGIN:DAYLIGHT
TZOFFSETFROM:+0100
TZOFFSETTO:+0200
TZNAME:CEST
DTSTART:20250330T010000
END:DAYLIGHT
BEGIN:STANDARD
TZOFFSETFROM:+0200
TZOFFSETTO:+0100
TZNAME:CET
DTSTART:20251026T010000
END:STANDARD
END:VTIMEZONE
BEGIN:VEVENT
DTSTART;TZID=Europe/Berlin:20241012T140000
DTEND;TZID=Europe/Berlin:20241012T170000
DTSTAMP:20260425T151004
CREATED:20240526T092444Z
LAST-MODIFIED:20240722T101027Z
UID:602-1728741600-1728752400@waldeckischer-saengerbund.de
SUMMARY:Gesangsworkshop mit Ulrike Wahren
DESCRIPTION:„Just sing: Gesund und mit Freude!“ \nGesangsworkshop mit Ulrike Wahren \nWer Lust hat seine Stimme zu trainieren und in fröhlicher und wertschätzender Atmosphäre mitsingen möchte\, ist hier richtig. In diesem Workshop vermittelt die autorisierte CVT-Gesangslehrerin Ulrike Wahren viele wertvolle Basics und praktische Tipps zum gesunden Umgang mit der Stimme (Atemtechnik\, Stimmbildung\, Klangfarbe\, Ausdruck\, Bühnenpräsenz\, u.v.m.) – mitreißend\, humorvoll und kompetent!
URL:https://waldeckischer-saengerbund.de/event/gesangsworkshop-mit-ulrike-wahren/
LOCATION:Landgasthof Kleppe\, Kornhausstraße 1\, Waldeck\, 34513\, Deutschland
END:VEVENT
BEGIN:VEVENT
DTSTART;TZID=Europe/Berlin:20241027T140000
DTEND;TZID=Europe/Berlin:20241027T170000
DTSTAMP:20260425T151004
CREATED:20241018T080826Z
LAST-MODIFIED:20241018T080833Z
UID:927-1730037600-1730048400@waldeckischer-saengerbund.de
SUMMARY:100 Jahre Sängerbezirk Rhene-Diemeltal
DESCRIPTION:
URL:https://waldeckischer-saengerbund.de/event/100-jahre-saengerbezirk-rhene-diemeltal/
LOCATION:Klosterlirche Diemelsee-Flechtdorf
END:VEVENT
END:VCALENDAR